Index of /checkResults/3.17/bioc-longtests-LATEST/biodbHmdb/raw-results/nebbiolo1
Name
Last modified
Size
Description
Parent Directory
-
checksrc-summary.dcf
15-Oct-2023 10:30
439
buildsrc-summary.dcf
15-Oct-2023 10:30
453
buildsrc-out.txt
15-Oct-2023 10:30
789
checksrc-out.txt
15-Oct-2023 10:30
3.8K