Index of /checkResults/3.17/bioc-longtests-LATEST/biodbChebi/raw-results/merida1
Name
Last modified
Size
Description
Parent Directory
-
checksrc-summary.dcf
15-Oct-2023 10:30
446
buildsrc-summary.dcf
15-Oct-2023 10:30
466
buildsrc-out.txt
15-Oct-2023 10:30
788
checksrc-out.txt
15-Oct-2023 10:30
3.0K