Index of /checkResults/3.17/bioc-longtests-LATEST/biodb/raw-results/merida1
Name
Last modified
Size
Description
Parent Directory
-
buildsrc-out.txt
15-Oct-2023 10:30
783
buildsrc-summary.dcf
15-Oct-2023 10:30
449
checksrc-out.txt
15-Oct-2023 10:30
3.4K
checksrc-summary.dcf
15-Oct-2023 10:30
431