Index of /checkResults/3.17/bioc-longtests-LATEST/autonomics/raw-results/nebbiolo1
Name
Last modified
Size
Description
Parent Directory
-
buildsrc-out.txt
15-Oct-2023 10:30
818
buildsrc-summary.dcf
15-Oct-2023 10:30
456
checksrc-summary.dcf
15-Oct-2023 10:30
440
checksrc-out.txt
15-Oct-2023 10:30
6.2K