Index of /checkResults/3.17/bioc-longtests-LATEST/autonomics/raw-results
Name
Last modified
Size
Description
Parent Directory
-
palomino3/
15-Oct-2023 10:30
-
nebbiolo1/
15-Oct-2023 10:30
-
merida1/
15-Oct-2023 10:30
-