Index of /checkResults/3.17/bioc-longtests-LATEST/TENxIO/raw-results/nebbiolo1
Name
Last modified
Size
Description
Parent Directory
-
buildsrc-out.txt
15-Oct-2023 10:30
762
buildsrc-summary.dcf
15-Oct-2023 10:30
443
checksrc-out.txt
15-Oct-2023 10:30
3.0K
checksrc-summary.dcf
15-Oct-2023 10:30
424