Index of /checkResults/3.17/bioc-longtests-LATEST/SimBu/raw-results/palomino3
Name
Last modified
Size
Description
Parent Directory
-
buildsrc-out.txt
15-Oct-2023 10:30
864
buildsrc-summary.dcf
15-Oct-2023 10:30
475
checksrc-out.txt
15-Oct-2023 10:30
4.5K
checksrc-summary.dcf
15-Oct-2023 10:30
450