Index of /checkResults/3.17/bioc-longtests-LATEST/DelayedMatrixStats/raw-results/palomino3
Name
Last modified
Size
Description
Parent Directory
-
buildsrc-out.txt
15-Oct-2023 10:30
890
buildsrc-summary.dcf
15-Oct-2023 10:30
529
checksrc-out.txt
15-Oct-2023 10:30
3.9K
checksrc-summary.dcf
15-Oct-2023 10:30
495