Index of /checkResults/3.17/bioc-longtests-LATEST/APAlyzer/raw-results/nebbiolo1
Name
Last modified
Size
Description
Parent Directory
-
buildsrc-out.txt
15-Oct-2023 10:30
771
buildsrc-summary.dcf
15-Oct-2023 10:30
452
checksrc-out.txt
15-Oct-2023 10:30
5.1K
checksrc-summary.dcf
15-Oct-2023 10:30
436