Index of /checkResults/3.17/bioc-LATEST/ptairMS/raw-results/palomino3
Name
Last modified
Size
Description
Parent Directory
-
install-summary.dcf
17-Oct-2023 00:36
267
buildsrc-summary.dcf
17-Oct-2023 00:36
368
buildsrc-out.txt
17-Oct-2023 00:36
1.1K
install-out.txt
17-Oct-2023 00:36
2.3K