Index of /checkResults/3.17/bioc-LATEST/pkgDepTools/raw-results/merida1
Name
Last modified
Size
Description
Parent Directory
-
install-summary.dcf
17-Oct-2023 00:37
277
install-out.txt
17-Oct-2023 00:37
1.2K
buildsrc-summary.dcf
17-Oct-2023 00:37
358
buildsrc-out.txt
17-Oct-2023 00:37
665