Index of /checkResults/3.17/bioc-LATEST/mAPKL/raw-results/palomino3
Name
Last modified
Size
Description
Parent Directory
-
install-out.txt
17-Oct-2023 00:36
1.0K
install-summary.dcf
17-Oct-2023 00:36
264
buildsrc-out.txt
17-Oct-2023 00:36
1.0K
buildsrc-summary.dcf
17-Oct-2023 00:36
362