Index of /checkResults/3.17/bioc-LATEST/copynumber/raw-results/nebbiolo1
Name
Last modified
Size
Description
Parent Directory
-
install-summary.dcf
17-Oct-2023 00:35
265
install-out.txt
17-Oct-2023 00:35
1.2K
buildsrc-summary.dcf
17-Oct-2023 00:35
339
buildsrc-out.txt
17-Oct-2023 00:35
818K