Name | Last modified | Size | Description | |
---|---|---|---|---|
Parent Directory | - | |||
install-summary.dcf | 17-Oct-2023 00:36 | 275 | ||
install-out.txt | 17-Oct-2023 00:36 | 1.2K | ||
checksrc-summary.dcf | 05-Apr-2023 00:06 | 462 | ||
checksrc-out.txt | 05-Apr-2023 00:06 | 15K | ||
buildsrc-summary.dcf | 17-Oct-2023 00:36 | 349 | ||
buildsrc-out.txt | 17-Oct-2023 00:36 | 818K | ||
buildbin-summary.dcf | 05-Apr-2023 00:06 | 548 | ||
buildbin-out.txt | 05-Apr-2023 00:06 | 1.4K | ||