Name | Last modified | Size | Description | |
---|---|---|---|---|
Parent Directory | - | |||
install-out.txt | 17-Oct-2023 00:35 | 3.2K | ||
install-summary.dcf | 17-Oct-2023 00:35 | 263 | ||
buildsrc-out.txt | 17-Oct-2023 00:35 | 860 | ||
buildsrc-summary.dcf | 17-Oct-2023 00:35 | 443 | ||
checksrc-out.txt | 17-Oct-2023 00:35 | 4.3K | ||
checksrc-summary.dcf | 17-Oct-2023 00:35 | 443 | ||
buildbin-out.txt | 17-Oct-2023 00:35 | 3.3K | ||
buildbin-summary.dcf | 17-Oct-2023 00:35 | 500 | ||