Name | Last modified | Size | Description | |
---|---|---|---|---|
Parent Directory | - | |||
install-summary.dcf | 17-Oct-2023 00:35 | 260 | ||
buildsrc-summary.dcf | 17-Oct-2023 00:35 | 419 | ||
checksrc-summary.dcf | 17-Oct-2023 00:35 | 425 | ||
buildsrc-out.txt | 17-Oct-2023 00:35 | 810 | ||
install-out.txt | 17-Oct-2023 00:35 | 815 | ||
checksrc-out.txt | 17-Oct-2023 00:35 | 4.1K | ||