Index of /checkResults/3.17/bioc-LATEST/PrecisionTrialDrawer/raw-results/merida1
Name
Last modified
Size
Description
Parent Directory
-
buildsrc-out.txt
17-Oct-2023 00:37
1.1K
buildsrc-summary.dcf
17-Oct-2023 00:37
370
install-out.txt
17-Oct-2023 00:37
1.2K
install-summary.dcf
17-Oct-2023 00:37
296