Name | Last modified | Size | Description | |
---|---|---|---|---|
Parent Directory | - | |||
install-summary.dcf | 17-Oct-2023 00:37 | 278 | ||
install-out.txt | 17-Oct-2023 00:37 | 1.2K | ||
checksrc-summary.dcf | 29-Mar-2023 00:07 | 456 | ||
checksrc-out.txt | 29-Mar-2023 00:07 | 3.8K | ||
buildsrc-summary.dcf | 17-Oct-2023 00:37 | 349 | ||
buildsrc-out.txt | 17-Oct-2023 00:37 | 1.4K | ||
buildbin-summary.dcf | 29-Mar-2023 00:07 | 547 | ||
buildbin-out.txt | 29-Mar-2023 00:07 | 1.2K | ||