Name | Last modified | Size | Description | |
---|---|---|---|---|
Parent Directory | - | |||
buildbin-out.txt | 03-Oct-2023 00:37 | 1.3K | ||
buildbin-summary.dcf | 03-Oct-2023 00:37 | 509 | ||
buildsrc-out.txt | 17-Oct-2023 00:37 | 1.4K | ||
buildsrc-summary.dcf | 17-Oct-2023 00:37 | 337 | ||
checksrc-out.txt | 03-Oct-2023 00:37 | 4.0K | ||
checksrc-summary.dcf | 03-Oct-2023 00:37 | 437 | ||
install-out.txt | 17-Oct-2023 00:37 | 1.2K | ||
install-summary.dcf | 17-Oct-2023 00:37 | 262 | ||