Name | Last modified | Size | Description | |
---|---|---|---|---|
Parent Directory | - | |||
buildsrc-out.txt | 17-Oct-2023 00:35 | 861 | ||
buildsrc-summary.dcf | 17-Oct-2023 00:35 | 427 | ||
checksrc-out.txt | 17-Oct-2023 00:35 | 3.7K | ||
checksrc-summary.dcf | 17-Oct-2023 00:35 | 428 | ||
install-out.txt | 17-Oct-2023 00:35 | 956 | ||
install-summary.dcf | 17-Oct-2023 00:35 | 266 | ||