Name | Last modified | Size | Description | |
---|---|---|---|---|
Parent Directory | - | |||
buildbin-out.txt | 17-Oct-2023 00:37 | 1.3K | ||
buildbin-summary.dcf | 17-Oct-2023 00:37 | 609 | ||
buildsrc-out.txt | 17-Oct-2023 00:37 | 931 | ||
buildsrc-summary.dcf | 17-Oct-2023 00:37 | 466 | ||
checksrc-out.txt | 17-Oct-2023 00:37 | 3.7K | ||
checksrc-summary.dcf | 17-Oct-2023 00:37 | 496 | ||
install-out.txt | 17-Oct-2023 00:37 | 1.0K | ||
install-summary.dcf | 17-Oct-2023 00:37 | 295 | ||