Name | Last modified | Size | Description | |
---|---|---|---|---|
Parent Directory | - | |||
checksrc-out.txt | 17-Jan-2023 01:06 | 4.4K | ||
checksrc-summary.dcf | 17-Jan-2023 01:06 | 411 | ||
install-out.txt | 17-Oct-2023 00:35 | 7.1K | ||
install-summary.dcf | 17-Oct-2023 00:35 | 257 | ||
buildsrc-out.txt | 17-Oct-2023 00:35 | 1.3K | ||
buildsrc-summary.dcf | 17-Oct-2023 00:35 | 332 | ||