Index of /checkResults/3.17/bioc-LATEST/MIGSA/raw-results/palomino3
Name
Last modified
Size
Description
Parent Directory
-
install-summary.dcf
17-Oct-2023 00:36
264
buildsrc-summary.dcf
17-Oct-2023 00:36
362
install-out.txt
17-Oct-2023 00:36
1.1K
buildsrc-out.txt
17-Oct-2023 00:36
2.8K