Index of /checkResults/3.17/bioc-LATEST/MIGSA/raw-results/nebbiolo1
Name
Last modified
Size
Description
Parent Directory
-
buildsrc-out.txt
17-Oct-2023 00:35
2.6K
buildsrc-summary.dcf
17-Oct-2023 00:35
329
install-out.txt
17-Oct-2023 00:35
1.1K
install-summary.dcf
17-Oct-2023 00:35
255