Index of /checkResults/3.17/bioc-LATEST/MIGSA/raw-results/merida1
Name
Last modified
Size
Description
Parent Directory
-
install-out.txt
17-Oct-2023 00:37
1.1K
install-summary.dcf
17-Oct-2023 00:37
266
buildsrc-out.txt
17-Oct-2023 00:37
2.6K
buildsrc-summary.dcf
17-Oct-2023 00:37
340