Name | Last modified | Size | Description | |
---|---|---|---|---|
Parent Directory | - | |||
install-summary.dcf | 17-Oct-2023 00:36 | 266 | ||
install-out.txt | 17-Oct-2023 00:36 | 1.0K | ||
checksrc-summary.dcf | 16-Mar-2023 00:06 | 449 | ||
checksrc-out.txt | 16-Mar-2023 00:06 | 7.6K | ||
buildsrc-summary.dcf | 17-Oct-2023 00:36 | 365 | ||
buildsrc-out.txt | 17-Oct-2023 00:36 | 1.1K | ||
buildbin-summary.dcf | 16-Mar-2023 00:06 | 509 | ||
buildbin-out.txt | 16-Mar-2023 00:06 | 1.2K | ||