Index of /checkResults/3.17/bioc-LATEST/HilbertVisGUI/raw-results
Name
Last modified
Size
Description
Parent Directory
-
info.dcf
17-Oct-2023 00:35
280
nebbiolo1/
17-Oct-2023 00:35
-