Name | Last modified | Size | Description | |
---|---|---|---|---|
Parent Directory | - | |||
install-summary.dcf | 17-Oct-2023 00:36 | 295 | ||
install-out.txt | 17-Oct-2023 00:36 | 2.6K | ||
checksrc-summary.dcf | 17-Oct-2023 00:36 | 496 | ||
checksrc-out.txt | 17-Oct-2023 00:36 | 4.6K | ||
buildsrc-summary.dcf | 17-Oct-2023 00:36 | 466 | ||
buildsrc-out.txt | 17-Oct-2023 00:36 | 961 | ||
buildbin-summary.dcf | 17-Oct-2023 00:36 | 608 | ||
buildbin-out.txt | 17-Oct-2023 00:36 | 4.8K | ||