Name | Last modified | Size | Description | |
---|---|---|---|---|
Parent Directory | - | |||
install-out.txt | 17-Oct-2023 00:36 | 1.0K | ||
install-summary.dcf | 17-Oct-2023 00:36 | 289 | ||
buildsrc-out.txt | 17-Oct-2023 00:36 | 856 | ||
buildsrc-summary.dcf | 17-Oct-2023 00:36 | 457 | ||
checksrc-out.txt | 17-Oct-2023 00:36 | 3.5K | ||
checksrc-summary.dcf | 17-Oct-2023 00:36 | 483 | ||
buildbin-summary.dcf | 17-Oct-2023 00:36 | 588 | ||
buildbin-out.txt | 17-Oct-2023 00:36 | 1.2K | ||