Name | Last modified | Size | Description | |
---|---|---|---|---|
Parent Directory | - | |||
buildsrc-out.txt | 17-Oct-2023 00:35 | 66K | ||
buildsrc-summary.dcf | 17-Oct-2023 00:35 | 328 | ||
checksrc-out.txt | 17-Mar-2023 00:05 | 8.8K | ||
checksrc-summary.dcf | 17-Mar-2023 00:05 | 406 | ||
install-out.txt | 17-Oct-2023 00:35 | 65K | ||
install-summary.dcf | 17-Oct-2023 00:35 | 258 | ||