Index of /checkResults/3.16/workflows-LATEST/variants/raw-results/palomino4
Name
Last modified
Size
Description
Parent Directory
-
install-summary.dcf
12-Apr-2023 03:00
270
install-out.txt
12-Apr-2023 03:00
949
buildsrc-summary.dcf
12-Apr-2023 03:00
455
buildsrc-out.txt
12-Apr-2023 03:00
916