Index of /checkResults/3.16/workflows-LATEST/variants/raw-results/nebbiolo2
Name
Last modified
Size
Description
Parent Directory
-
buildsrc-out.txt
12-Apr-2023 03:00
884
buildsrc-summary.dcf
12-Apr-2023 03:00
419
install-out.txt
12-Apr-2023 03:00
944
install-summary.dcf
12-Apr-2023 03:00
261