Index of /checkResults/3.16/workflows-LATEST/variants/raw-results/lconway
Name
Last modified
Size
Description
Parent Directory
-
buildsrc-out.txt
12-Apr-2023 03:00
894
buildsrc-summary.dcf
12-Apr-2023 03:00
429
install-out.txt
12-Apr-2023 03:00
972
install-summary.dcf
12-Apr-2023 03:00
271