Index of /checkResults/3.16/workflows-LATEST/sequencing/raw-results/palomino4
Name
Last modified
Size
Description
Parent Directory
-
install-summary.dcf
12-Apr-2023 03:00
274
install-out.txt
12-Apr-2023 03:00
948
buildsrc-summary.dcf
12-Apr-2023 03:00
464
buildsrc-out.txt
12-Apr-2023 03:00
926