Index of /checkResults/3.16/workflows-LATEST/sequencing/raw-results/nebbiolo2
Name
Last modified
Size
Description
Parent Directory
-
install-out.txt
12-Apr-2023 03:00
944
buildsrc-out.txt
12-Apr-2023 03:00
892
buildsrc-summary.dcf
12-Apr-2023 03:00
426
install-summary.dcf
12-Apr-2023 03:00
265