Index of /checkResults/3.16/workflows-LATEST/rnaseqGene/raw-results/palomino4
Name
Last modified
Size
Description
Parent Directory
-
buildsrc-out.txt
12-Apr-2023 03:00
926
buildsrc-summary.dcf
12-Apr-2023 03:00
463
install-out.txt
12-Apr-2023 03:00
957
install-summary.dcf
12-Apr-2023 03:00
274