Index of /checkResults/3.16/workflows-LATEST/rnaseqGene/raw-results/nebbiolo2
Name
Last modified
Size
Description
Parent Directory
-
install-summary.dcf
12-Apr-2023 03:00
265
install-out.txt
12-Apr-2023 03:00
952
buildsrc-summary.dcf
12-Apr-2023 03:00
427
buildsrc-out.txt
12-Apr-2023 03:00
892