Index of /checkResults/3.16/workflows-LATEST/recountWorkflow/raw-results/palomino4
Name
Last modified
Size
Description
Parent Directory
-
buildsrc-out.txt
12-Apr-2023 03:00
879
buildsrc-summary.dcf
12-Apr-2023 03:00
485
install-out.txt
12-Apr-2023 03:00
1.0K
install-summary.dcf
12-Apr-2023 03:00
284