Index of /checkResults/3.16/workflows-LATEST/recountWorkflow/raw-results/nebbiolo2
Name
Last modified
Size
Description
Parent Directory
-
install-summary.dcf
12-Apr-2023 03:00
275
install-out.txt
12-Apr-2023 03:00
1.0K
buildsrc-summary.dcf
12-Apr-2023 03:00
442
buildsrc-out.txt
12-Apr-2023 03:00
838