Index of /checkResults/3.16/workflows-LATEST/recountWorkflow/raw-results
Name
Last modified
Size
Description
Parent Directory
-
palomino4/
12-Apr-2023 03:00
-
nebbiolo2/
12-Apr-2023 03:00
-
lconway/
12-Apr-2023 03:00
-
info.dcf
12-Apr-2023 03:00
299