Index of /checkResults/3.16/workflows-LATEST/highthroughputassays/raw-results/nebbiolo2
Name
Last modified
Size
Description
Parent Directory
-
install-summary.dcf
12-Apr-2023 03:00
285
buildsrc-summary.dcf
12-Apr-2023 03:00
456
buildsrc-out.txt
12-Apr-2023 03:00
932
install-out.txt
12-Apr-2023 03:00
1.2K