Index of /checkResults/3.16/workflows-LATEST/highthroughputassays/raw-results
Name
Last modified
Size
Description
Parent Directory
-
info.dcf
12-Apr-2023 03:00
323
nebbiolo2/
12-Apr-2023 03:00
-