Index of /checkResults/3.16/workflows-LATEST/generegulation/raw-results/palomino4
Name
Last modified
Size
Description
Parent Directory
-
install-summary.dcf
12-Apr-2023 03:00
282
buildsrc-summary.dcf
12-Apr-2023 03:00
480
buildsrc-out.txt
12-Apr-2023 03:00
946
install-out.txt
12-Apr-2023 03:00
1.1K