Index of /checkResults/3.16/workflows-LATEST/generegulation/raw-results/nebbiolo2
Name
Last modified
Size
Description
Parent Directory
-
install-summary.dcf
12-Apr-2023 03:00
273
buildsrc-summary.dcf
12-Apr-2023 03:00
438
buildsrc-out.txt
12-Apr-2023 03:00
908
install-out.txt
12-Apr-2023 03:00
1.1K