Index of /checkResults/3.16/workflows-LATEST/csawUsersGuide/raw-results/palomino4
Name
Last modified
Size
Description
Parent Directory
-
install-summary.dcf
12-Apr-2023 03:00
281
install-out.txt
12-Apr-2023 03:00
1.0K
buildsrc-summary.dcf
12-Apr-2023 03:00
480
buildsrc-out.txt
12-Apr-2023 03:00
909