Index of /checkResults/3.16/workflows-LATEST/arrays/raw-results/nebbiolo2
Name
Last modified
Size
Description
Parent Directory
-
buildsrc-out.txt
12-Apr-2023 03:00
802
buildsrc-summary.dcf
12-Apr-2023 03:00
413
install-out.txt
12-Apr-2023 03:00
936
install-summary.dcf
12-Apr-2023 03:00
256