Index of /checkResults/3.16/workflows-LATEST/arrays/raw-results/lconway
Name
Last modified
Size
Description
Parent Directory
-
buildsrc-out.txt
12-Apr-2023 03:00
812
buildsrc-summary.dcf
12-Apr-2023 03:00
423
install-out.txt
12-Apr-2023 03:00
964
install-summary.dcf
12-Apr-2023 03:00
266