Index of /checkResults/3.16/workflows-LATEST/RNAseq123/raw-results/palomino4
Name
Last modified
Size
Description
Parent Directory
-
buildsrc-out.txt
12-Apr-2023 03:00
921
buildsrc-summary.dcf
12-Apr-2023 03:00
461
install-out.txt
12-Apr-2023 03:00
953
install-summary.dcf
12-Apr-2023 03:00
272