Index of /checkResults/3.16/workflows-LATEST/RNAseq123/raw-results/nebbiolo2
Name
Last modified
Size
Description
Parent Directory
-
install-summary.dcf
12-Apr-2023 03:00
263
buildsrc-summary.dcf
12-Apr-2023 03:00
423
buildsrc-out.txt
12-Apr-2023 03:00
888
install-out.txt
12-Apr-2023 03:00
948