Index of /checkResults/3.16/workflows-LATEST/RNAseq123/raw-results/lconway
Name
Last modified
Size
Description
Parent Directory
-
buildsrc-out.txt
12-Apr-2023 03:00
898
buildsrc-summary.dcf
12-Apr-2023 03:00
433
install-out.txt
12-Apr-2023 03:00
1.0K
install-summary.dcf
12-Apr-2023 03:00
273